{"text_format":"2","workbook":"xlsx","n_sheets":3,"sheets":["Sheet1","Sheet2","Sheet3"],"not_rendered":{"charts":0,"images":0,"macros":0,"external_links":0,"defined_names":0,"comments":0,"pivot_tables":0},"unopened":[],"bounds":{"document_bytes":16777216,"sheet_cells":100000,"run_cost":"one","rows_first":2000,"rows_last":500,"rows_between":2000,"halvings":0,"cell_chars":16384,"cell_head_chars":4096},"cells_cut":0,"cells_raw":0,"read":"whole","date_system":"1900"}

{"sheet":"Sheet1","index":0,"n_rows":57,"n_cols":4,"rows_kept":57,"cut":false,"hidden":false,"merged":[]}
[]
[" 《eBiz Edu Center 사물함 추첨》"]
["지원자","번 호","사물함 번호","결 과 값"]
["이지영,이보라",1,1,{"$f":"Sheet2!C1","v":28}]
["허영유,곽태용",2,2,{"$f":"Sheet2!C2","v":16}]
["장인혜,신민철",3,3,{"$f":"Sheet2!C3","v":19}]
["김민제,조인제",4,4,{"$f":"Sheet2!C4","v":24}]
["정철,김민중",5,5,{"$f":"Sheet2!C5","v":25}]
["박종원,변은민",6,6,{"$f":"Sheet2!C6","v":54}]
["이재호,김태훈",7,7,{"$f":"Sheet2!C7","v":41}]
["가나현,이수진",8,8,{"$f":"Sheet2!C8","v":10}]
["남상흠,이봉현",9,9,{"$f":"Sheet2!C9","v":7}]
["강유라,손혜리",10,10,{"$f":"Sheet2!C10","v":17}]
["배현지,김예솔",11,11,{"$f":"Sheet2!C11","v":38}]
["최영두,김준형",12,12,{"$f":"Sheet2!C12","v":11}]
["김경미,최종민",13,13,{"$f":"Sheet2!C13","v":32}]
["김민지,박혜영",14,14,{"$f":"Sheet2!C14","v":51}]
["유필선,양홍모",15,15,{"$f":"Sheet2!C15","v":9}]
["송보영,박주희",16,16,{"$f":"Sheet2!C16","v":48}]
["이주원,전재연",17,17,{"$f":"Sheet2!C17","v":39}]
["이한솔,김소정",18,18,{"$f":"Sheet2!C18","v":42}]
["최준봉,이두원",19,19,{"$f":"Sheet2!C19","v":49}]
["진연태,김수현",20,20,{"$f":"Sheet2!C20","v":43}]
["정명신,신명은",21,21,{"$f":"Sheet2!C21","v":21}]
["도지윤,최상우",22,22,{"$f":"Sheet2!C22","v":34}]
["박미지,이수현",23,23,{"$f":"Sheet2!C23","v":3}]
["이한솔,조창환",24,24,{"$f":"Sheet2!C24","v":31}]
["정혜림,문소희",25,25,{"$f":"Sheet2!C25","v":50}]
["성하연,윤지은",26,26,{"$f":"Sheet2!C26","v":20}]
["박현진,강성모",27,27,{"$f":"Sheet2!C27","v":15}]
["김영휘,김동근",28,28,{"$f":"Sheet2!C28","v":36}]
["박성준,김재인",29,29,{"$f":"Sheet2!C29","v":53}]
["최연지,장소영",30,30,{"$f":"Sheet2!C30","v":23}]
["신예찬,염광섭",31,31,{"$f":"Sheet2!C31","v":13}]
["최민수,김광훈",32,32,{"$f":"Sheet2!C32","v":27}]
["김나경,김희진",33,33,{"$f":"Sheet2!C33","v":22}]
["장재원,정건용",34,34,{"$f":"Sheet2!C34","v":8}]
["김남준,임백산",35,35,{"$f":"Sheet2!C35","v":44}]
["남웅제,이승재",36,36,{"$f":"Sheet2!C36","v":47}]
["장인혜,신민철",37,37,{"$f":"Sheet2!C37","v":5}]
["홍지민,황승주",38,38,{"$f":"Sheet2!C38","v":4}]
["김민규,김응기",39,39,{"$f":"Sheet2!C39","v":37}]
["정세영,조용환",40,40,{"$f":"Sheet2!C40","v":14}]
["한민규,전하림",41,41,{"$f":"Sheet2!C41","v":35}]
["최승진,조이삭",42,42,{"$f":"Sheet2!C42","v":46}]
["정다희,김영운",43,43,{"$f":"Sheet2!C43","v":6}]
["신재호,박상현",44,44,{"$f":"Sheet2!C44","v":1}]
["신아림,이성호",45,45,{"$f":"Sheet2!C45","v":29}]
["정환석,이동협",46]
["조정민,이병훈",47]
["이형철,육동윤",48]
["차재경,박경빈",49]
["정한희,이승현",50]
["김태준,김덕인",51]
["최승훈,최효정",52]
["이창현,박찬종",53]
["최명진,백종선",54]

{"sheet":"Sheet2","index":1,"n_rows":54,"n_cols":3,"rows_kept":54,"cut":false,"hidden":false,"merged":[]}
[1,{"$f":"RAND()","v":0.51462394667114708},{"$f":"INDEX($A$1:$A$54,RANK(B1,$B$1:$B$54))","v":28}]
[2,{"$f":"RAND()","v":0.73994071100879699},{"$f":"INDEX($A$1:$A$54,RANK(B2,$B$1:$B$54))","v":16}]
[3,{"$f":"RAND()","v":0.72662430283632951},19]
[4,{"$f":"RAND()","v":0.58183268651276809},24]
[5,{"$f":"RAND()","v":0.55873111747932125},25]
[6,{"$f":"RAND()","v":2.2796211368695474E-2},54]
[7,{"$f":"RAND()","v":0.21581434518029896},41]
[8,0.8489829292157911,10]
[9,0.91465196906182378,7]
[10,0.73892323922460701,17]
[11,0.24901414937734256,38]
[12,0.84392973102350233,11]
[13,0.42890397831263072,32]
[14,5.7913191750974313E-2,51]
[15,0.85349033966036991,9]
[16,0.11448681366667657,48]
[17,0.22641561214824169,39]
[18,0.20779408435536273,42]
[19,0.10338304329952663,49]
[20,0.14532097389765841,43]
[21,0.63297190890811716,21]
[22,0.31899758540190626,34]
[23,0.93334193338686178,3]
[24,0.45842353136100122,31]
[25,8.9178296435981963E-2,50]
[26,0.72266926787842856,20]
[27,0.76290863329306102,15]
[28,0.29979504173642124,36]
[29,2.310469764624834E-2,53]
[30,0.60625300022841433,23]
[31,0.78246668054835711,13]
[32,0.51534271482526206,27]
[33,0.60954136494098554,22]
[34,0.88952113248404174,8]
[35,0.13621637610465864,44]
[36,{"$f":"RAND()","v":0.12980086129627399},47]
[37,0.92144091111709669,5]
[38,0.93331642134311954,4]
[39,0.25376385076677188,37]
[40,0.77351320555353698,14]
[41,0.30696207325763059,35]
[42,0.1299191402562867,46]
[43,0.91652023853101383,6]
[44,0.97757897936681282,1]
[45,{"$f":"RAND()","v":0.51027902099184175},29]
[46,{"$f":"RAND()","v":0.13016007522236084}]
[47,{"$f":"RAND()","v":0.35355660810718792}]
[48,0.52848445389872012]
[49,3.9819933928405327E-2]
[50,0.96940776655642935]
[51,0.73521169793822416]
[52,0.79917317386439191]
[53,0.46634519902117066]
[54,0.21947832669743583]

{"sheet":"Sheet3","index":2,"n_rows":8,"n_cols":9,"rows_kept":8,"cut":false,"hidden":false,"merged":[]}
[]
["                               《사물함 위치》"]
[]
[{"$f":"Sheet2!C1","v":28},{"$f":"Sheet2!C6","v":54},{"$f":"Sheet2!C11","v":38},{"$f":"Sheet2!C16","v":48},{"$f":"Sheet2!C21","v":21},{"$f":"Sheet2!C26","v":20},{"$f":"Sheet2!C31","v":13},{"$f":"Sheet2!C36","v":47},{"$f":"Sheet2!C41","v":35}]
[{"$f":"Sheet2!C2","v":16},{"$f":"Sheet2!C7","v":41},{"$f":"Sheet2!C12","v":11},{"$f":"Sheet2!C17","v":39},{"$f":"Sheet2!C22","v":34},{"$f":"Sheet2!C27","v":15},{"$f":"Sheet2!C32","v":27},{"$f":"Sheet2!C37","v":5},{"$f":"Sheet2!C42","v":46}]
[{"$f":"Sheet2!C3","v":19},{"$f":"Sheet2!C8","v":10},{"$f":"Sheet2!C13","v":32},{"$f":"Sheet2!C18","v":42},{"$f":"Sheet2!C23","v":3},{"$f":"Sheet2!C28","v":36},{"$f":"Sheet2!C33","v":22},{"$f":"Sheet2!C38","v":4},{"$f":"Sheet2!C43","v":6}]
[{"$f":"Sheet2!C4","v":24},{"$f":"Sheet2!C9","v":7},{"$f":"Sheet2!C14","v":51},{"$f":"Sheet2!C19","v":49},{"$f":"Sheet2!C24","v":31},{"$f":"Sheet2!C29","v":53},{"$f":"Sheet2!C34","v":8},{"$f":"Sheet2!C39","v":37},{"$f":"Sheet2!C44","v":1}]
[{"$f":"Sheet2!C5","v":25},{"$f":"Sheet2!C10","v":17},{"$f":"Sheet2!C15","v":9},{"$f":"Sheet2!C20","v":43},{"$f":"Sheet2!C25","v":50},{"$f":"Sheet2!C30","v":23},{"$f":"Sheet2!C35","v":44},{"$f":"Sheet2!C40","v":14},{"$f":"Sheet2!C45","v":29}]